BEGIN:VCALENDAR
VERSION:2.0
PRODID:-//SMT Conference Guide 2020
CALSCALE:GREGORIAN
BEGIN:VTIMEZONE
TZID:America/Chicago
BEGIN:DAYLIGHT
TZNAME:EDT
RRULE:FREQ=YEARLY;UNTIL=20060402T070000Z;BYDAY=1SU;BYMONTH=4
DTSTART:20000402T020000
TZOFFSETFROM:-0600
TZOFFSETTO:-0500
END:DAYLIGHT
BEGIN:DAYLIGHT
TZNAME:EDT
RRULE:FREQ=YEARLY;BYDAY=2SU;BYMONTH=3
DTSTART:20070311T020000
TZOFFSETFROM:-0600
TZOFFSETTO:-0500
END:DAYLIGHT
BEGIN:STANDARD
TZNAME:EST
RRULE:FREQ=YEARLY;UNTIL=20061029T060000Z;BYDAY=-1SU;BYMONTH=10
DTSTART:20001029T020000
TZOFFSETFROM:-0500
TZOFFSETTO:-0600
END:STANDARD
BEGIN:STANDARD
TZNAME:EST
RRULE:FREQ=YEARLY;BYDAY=1SU;BYMONTH=11
DTSTART:20071104T020000
TZOFFSETFROM:-0500
TZOFFSETTO:-0600
END:STANDARD
END:VTIMEZONE
BEGIN:VEVENT
DTSTAMP:20201010T135452Z
UID:2BDA2BFE-0B00-11EB-B5BD-E8FE0DC20CFC
SUMMARY:Popular and Video Game Music Poster Session
DTSTART;TZID=America/Chicago:20201114T120000
DTEND;TZID=America/Chicago:20201114T125000
END:VEVENT
END:VCALENDAR
